BEGIN:VCALENDAR
VERSION:2.0
PRODID:-//AvantAge am Egelsee - ECPv6.15.20//NONSGML v1.0//EN
CALSCALE:GREGORIAN
METHOD:PUBLISH
X-WR-CALNAME:AvantAge am Egelsee
X-ORIGINAL-URL:https://avantage-am-see.ch
X-WR-CALDESC:Veranstaltungen für AvantAge am Egelsee
REFRESH-INTERVAL;VALUE=DURATION:PT1H
X-Robots-Tag:noindex
X-PUBLISHED-TTL:PT1H
BEGIN:VTIMEZONE
TZID:Europe/Berlin
BEGIN:DAYLIGHT
TZOFFSETFROM:+0100
TZOFFSETTO:+0200
TZNAME:CEST
DTSTART:20230326T010000
END:DAYLIGHT
BEGIN:STANDARD
TZOFFSETFROM:+0200
TZOFFSETTO:+0100
TZNAME:CET
DTSTART:20231029T010000
END:STANDARD
BEGIN:DAYLIGHT
TZOFFSETFROM:+0100
TZOFFSETTO:+0200
TZNAME:CEST
DTSTART:20240331T010000
END:DAYLIGHT
BEGIN:STANDARD
TZOFFSETFROM:+0200
TZOFFSETTO:+0100
TZNAME:CET
DTSTART:20241027T010000
END:STANDARD
BEGIN:DAYLIGHT
TZOFFSETFROM:+0100
TZOFFSETTO:+0200
TZNAME:CEST
DTSTART:20250330T010000
END:DAYLIGHT
BEGIN:STANDARD
TZOFFSETFROM:+0200
TZOFFSETTO:+0100
TZNAME:CET
DTSTART:20251026T010000
END:STANDARD
END:VTIMEZONE
BEGIN:VEVENT
DTSTART;TZID=Europe/Berlin:20240503T173000
DTEND;TZID=Europe/Berlin:20240503T230000
DTSTAMP:20260425T031511
CREATED:20240129T150342Z
LAST-MODIFIED:20240415T114550Z
UID:175-1714757400-1714777200@avantage-am-see.ch
SUMMARY:Sponsorenessen
DESCRIPTION:Der Verein am See lädt ein zum 3‑Gänger-Festessen\, Apéro ab 17.30 Uhr:\nDer Erlös des Sponsorenessens fliesst in die Renovation des Veranstaltungsraums. Diese erste Etappe ist für die Erneuerung der Beleuchtung\, Wandanstrich und Einrichtung gedacht. \nMenü: Maurice Rota\, Beat Lauber & AvantAge\nMaurice Rota\, Beat Lauber und das Projekt AvantAge am See verwöhnen die Gäste mit einem 3‑Gänger-Überraschungsmenü vom Feinsten. \n\n\nMusik: Matthias Kirchner\nDer Bieler Musiker Matthias Kirchner singt in seinem Projekt Fleisch und Blut lustige Lieder über das Leben im Allgemeinen und das Leben heute im Speziellen.
URL:https://avantage-am-see.ch/event/sponsorenessen/
LOCATION:Werkhof Egelsee Eventraum\, 1. Stock)\, Muristrasse 21e\, 3006 Bern\, Bern\, Schweiz
ORGANIZER;CN="Beat Lauber":MAILTO:beat-lauber@bluewin.ch
END:VEVENT
END:VCALENDAR