BEGIN:VCALENDAR
VERSION:2.0
PRODID:-//AvantAge am Egelsee - ECPv6.15.20//NONSGML v1.0//EN
CALSCALE:GREGORIAN
METHOD:PUBLISH
X-ORIGINAL-URL:https://avantage-am-see.ch
X-WR-CALDESC:Veranstaltungen für AvantAge am Egelsee
REFRESH-INTERVAL;VALUE=DURATION:PT1H
X-Robots-Tag:noindex
X-PUBLISHED-TTL:PT1H
BEGIN:VTIMEZONE
TZID:Europe/Zurich
BEGIN:DAYLIGHT
TZOFFSETFROM:+0100
TZOFFSETTO:+0200
TZNAME:CEST
DTSTART:20240331T010000
END:DAYLIGHT
BEGIN:STANDARD
TZOFFSETFROM:+0200
TZOFFSETTO:+0100
TZNAME:CET
DTSTART:20241027T010000
END:STANDARD
BEGIN:DAYLIGHT
TZOFFSETFROM:+0100
TZOFFSETTO:+0200
TZNAME:CEST
DTSTART:20250330T010000
END:DAYLIGHT
BEGIN:STANDARD
TZOFFSETFROM:+0200
TZOFFSETTO:+0100
TZNAME:CET
DTSTART:20251026T010000
END:STANDARD
BEGIN:DAYLIGHT
TZOFFSETFROM:+0100
TZOFFSETTO:+0200
TZNAME:CEST
DTSTART:20260329T010000
END:DAYLIGHT
BEGIN:STANDARD
TZOFFSETFROM:+0200
TZOFFSETTO:+0100
TZNAME:CET
DTSTART:20261025T010000
END:STANDARD
END:VTIMEZONE
BEGIN:VEVENT
DTSTART;TZID=Europe/Zurich:20250126T140000
DTEND;TZID=Europe/Zurich:20250126T170000
DTSTAMP:20260424T144154
CREATED:20241225T161929Z
LAST-MODIFIED:20241225T161929Z
UID:1085-1737900000-1737910800@avantage-am-see.ch
SUMMARY:Austellung Licht-Objekte und Plakate
DESCRIPTION:Wir laden herzlich ein euch die Ausstellung anzusehen!\n\n\n \n\n\n\nZum Start ins neue Jahr 2025 können die Arbeiten von Thomas Dumont und Mark Hohn in den Ausstellungsräumen des Verein am See betrachtet werden. \n\n\nThomas Dumont: pensionierter Physiotherapeut\, Jazzmusiker und Lampenkreierer. Seine Lampen wurden aus gebrauchten Materialien hergestellt. \n\nMark Hohn\, geboren 1982 in Bern\, ist seit 20 Jahren Grafiker EFZ und seit über zehn Jahren selbständig.\n2023 hat er fünf komplette «Display typeface»-Alphabete entwickelt und gezeichnet\, Schriftarten welche für die Verwendung von Titel\, Überschriften und nicht für längere Textpassagen gedacht sind. Die Schriften werden als grossformatige Plakat-Illustrationen ausgestellt.\n\nMit herzlichen Grüssen Beat
URL:https://avantage-am-see.ch/event/austellung-licht-objekte-und-plakate/
LOCATION:Werkhof Egelsee 1. Stock
ORGANIZER;CN="Verein am See/ Beat Lauber":MAILTO:beat-lauber@bluewin.ch
END:VEVENT
END:VCALENDAR