BEGIN:VCALENDAR
VERSION:2.0
PRODID:-//AvantAge am Egelsee - ECPv6.15.20//NONSGML v1.0//EN
CALSCALE:GREGORIAN
METHOD:PUBLISH
X-ORIGINAL-URL:https://avantage-am-see.ch
X-WR-CALDESC:Veranstaltungen für AvantAge am Egelsee
REFRESH-INTERVAL;VALUE=DURATION:PT1H
X-Robots-Tag:noindex
X-PUBLISHED-TTL:PT1H
BEGIN:VTIMEZONE
TZID:Europe/Zurich
BEGIN:DAYLIGHT
TZOFFSETFROM:+0100
TZOFFSETTO:+0200
TZNAME:CEST
DTSTART:20240331T010000
END:DAYLIGHT
BEGIN:STANDARD
TZOFFSETFROM:+0200
TZOFFSETTO:+0100
TZNAME:CET
DTSTART:20241027T010000
END:STANDARD
BEGIN:DAYLIGHT
TZOFFSETFROM:+0100
TZOFFSETTO:+0200
TZNAME:CEST
DTSTART:20250330T010000
END:DAYLIGHT
BEGIN:STANDARD
TZOFFSETFROM:+0200
TZOFFSETTO:+0100
TZNAME:CET
DTSTART:20251026T010000
END:STANDARD
BEGIN:DAYLIGHT
TZOFFSETFROM:+0100
TZOFFSETTO:+0200
TZNAME:CEST
DTSTART:20260329T010000
END:DAYLIGHT
BEGIN:STANDARD
TZOFFSETFROM:+0200
TZOFFSETTO:+0100
TZNAME:CET
DTSTART:20261025T010000
END:STANDARD
BEGIN:DAYLIGHT
TZOFFSETFROM:+0100
TZOFFSETTO:+0200
TZNAME:CEST
DTSTART:20270328T010000
END:DAYLIGHT
BEGIN:STANDARD
TZOFFSETFROM:+0200
TZOFFSETTO:+0100
TZNAME:CET
DTSTART:20271031T010000
END:STANDARD
END:VTIMEZONE
BEGIN:VEVENT
DTSTART;TZID=Europe/Zurich:20260417T173000
DTEND;TZID=Europe/Zurich:20260417T210000
DTSTAMP:20260421T113317
CREATED:20260304T075858Z
LAST-MODIFIED:20260403T113914Z
UID:1659-1776447000-1776459600@avantage-am-see.ch
SUMMARY:Z'Nacht am See
DESCRIPTION:Liebe Freundinnen und Freunde des Egelsee\nJetzt geht es wieder los mit unseren Freitagsessen am Egelsee. Wir möchten euch mit günstigen Essen verwöhnen und den Treffpunkt am See durch gemeinsames Essen fördern.\nEssen gibt es jeweils von 17.30 bis ca. 21.00.\nEs braucht keine Anmeldung. Das Menue ist Indisches Essen mit verschiedenen Currys und Reis . Das Essen wird bei jedem Wetter durchgeführt. Es gibt Innenplätze.\nEuer AvantAge Kochteam
URL:https://avantage-am-see.ch/event/znacht-am-see-2/
LOCATION:Werkhof am Egelsee Draussen oder drinnen 1.Stock\, Muristr.21e\, Bern\, 3006
CATEGORIES:Znacht
END:VEVENT
BEGIN:VEVENT
DTSTART;TZID=Europe/Zurich:20260413T170000
DTEND;TZID=Europe/Zurich:20260413T190000
DTSTAMP:20260421T113317
CREATED:20260107T131918Z
LAST-MODIFIED:20260126T172244Z
UID:1616-1776099600-1776106800@avantage-am-see.ch
SUMMARY:4. AvantAge Stamm am Egelsee 26
DESCRIPTION:Thema dieses Stammes ist Humor \nBrigitte versucht gute Stimmung zu machen und führt durch den Stamm. \nHerzlich Willkommen !!
URL:https://avantage-am-see.ch/event/4-avantage-stamm-am-egelsee-26/
LOCATION:Werkhof Egelsee 1. Stock
CATEGORIES:Avantage Stamm
END:VEVENT
BEGIN:VEVENT
DTSTART;TZID=Europe/Zurich:20260325T180000
DTEND;TZID=Europe/Zurich:20260325T190000
DTSTAMP:20260421T113317
CREATED:20260210T120630Z
LAST-MODIFIED:20260210T120630Z
UID:1647-1774461600-1774465200@avantage-am-see.ch
SUMMARY:Empfehlung Buchvorstellung
DESCRIPTION:Im Zunftsaal zur Webern in Bern wird am 25. März 2026 von 18.00 bis 19.00 (anschl. Apero) das Buch Hortensia von Salis: ein Lebensbild auss dem 17. Jahrhundert vorgestellt.\nDann Diskussion zwischen Sarah Rindlisbacher Thomi\,Oberassistentin am Historischen Institut der Universität Bern\, und Maya Widmer und Kaspar von Greyerz\nAnmeldung unter: admin@hierundjetzt.ch
URL:https://avantage-am-see.ch/event/empfehlung-buchvorstellung/
END:VEVENT
BEGIN:VEVENT
DTSTART;TZID=Europe/Zurich:20260309T170000
DTEND;TZID=Europe/Zurich:20260309T190000
DTSTAMP:20260421T113317
CREATED:20260107T131648Z
LAST-MODIFIED:20260126T172038Z
UID:1612-1773075600-1773082800@avantage-am-see.ch
SUMMARY:3. AvantAge Stamm am Egelsee 26
DESCRIPTION:Thema des Stammes \nWelche Werte sind uns wichtig?  Für uns persönlich und für unsere Gesellschaft. \nDurch den Stamm führt Hannes \nHerzlich Willkommen !!
URL:https://avantage-am-see.ch/event/3-avantage-stamm-am-egelsee-26/
LOCATION:Werkhof Egelsee 1. Stock
CATEGORIES:Avantage Stamm
END:VEVENT
BEGIN:VEVENT
DTSTART;TZID=Europe/Zurich:20260215T140000
DTEND;TZID=Europe/Zurich:20260215T170000
DTSTAMP:20260421T113317
CREATED:20260119T153131Z
LAST-MODIFIED:20260119T153131Z
UID:1620-1771164000-1771174800@avantage-am-see.ch
SUMMARY:"Vin de Berne" Film und Degustationsnachmittag
DESCRIPTION:Für alle Interessierten: \nSonntag 15. Februar 14.00 bis ca. 17.00 im Veranstaltungsraum \nFilm „Vin de Berne“ von Hugo Sigrist\nüber das Weinbaugebiet im Wyssloch \nMatthias Rindisbacher ist anwesend. \nhttps://visuellemedien.ch/de/filme/aktuell/vin-de-berne/ \nDann kann dieser Wein auch noch degustiert werden.    \nEs wird ein kleiner freiwilliger Unkostenbeitrag im Bereich 12.- vorgeschlagen. \nAnmeldung über avantage@vereinamsee.ch bis am 10. Februar 26 \nMit herzlichen Grüssen Beat
URL:https://avantage-am-see.ch/event/vin-de-berne-film-und-degustationsnachmittag/
LOCATION:Werkhof Egelsee 1. Stock
CATEGORIES:Projekte
END:VEVENT
BEGIN:VEVENT
DTSTART;TZID=Europe/Zurich:20260209T170000
DTEND;TZID=Europe/Zurich:20260209T190000
DTSTAMP:20260421T113317
CREATED:20260107T131435Z
LAST-MODIFIED:20260126T171754Z
UID:1609-1770656400-1770663600@avantage-am-see.ch
SUMMARY:2. AvantAge Stamm am Egelsee 26
DESCRIPTION:Thema \nStrategien\, wenn die Gesundheit happert \nDurch den Abend führen Cornelia und Priska \nHerzlich Willkommen!!
URL:https://avantage-am-see.ch/event/2-avantage-stamm-am-egelsee-26/
LOCATION:Werkhof Egelsee 1. Stock
CATEGORIES:Avantage Stamm
END:VEVENT
BEGIN:VEVENT
DTSTART;TZID=Europe/Zurich:20260112T140000
DTEND;TZID=Europe/Zurich:20260112T170000
DTSTAMP:20260421T113317
CREATED:20260107T131134Z
LAST-MODIFIED:20260107T132004Z
UID:1605-1768226400-1768237200@avantage-am-see.ch
SUMMARY:1. Stamm am Egelsee 26
DESCRIPTION:Am ersten Stamm im 2026 findet ein Besuch im Regionalgefängnis Burgdorf statt. Die Teilnehmer sind informiert\nZusätzliche Interessierte können sich noch bei mir melden. 079 467 12 48\nBeat
URL:https://avantage-am-see.ch/event/1-stamm-am-egelsee-26/
LOCATION:Regionalgefängnis Burgdorf
CATEGORIES:Avantage Stamm
END:VEVENT
BEGIN:VEVENT
DTSTART;TZID=Europe/Zurich:20251110T170000
DTEND;TZID=Europe/Zurich:20251110T220000
DTSTAMP:20260421T113317
CREATED:20251021T112441Z
LAST-MODIFIED:20251109T074554Z
UID:1584-1762794000-1762812000@avantage-am-see.ch
SUMMARY:"Hauptversammlung" AvantAge
DESCRIPTION:Es wird Vergangenes und Zukünftiges besprochen.\nAnschliesend Essen wir zusammen Raclette.\nEs sind auch neugierige Neue willkommen.\nBitte anmelden!!!\nFragen: 079 467 12 48\nBeat
URL:https://avantage-am-see.ch/event/hauptversammlung-avantage/
LOCATION:Werkhof Egelsee 1. Stock
CATEGORIES:Avantage Stamm
END:VEVENT
BEGIN:VEVENT
DTSTART;TZID=Europe/Zurich:20251017T173000
DTEND;TZID=Europe/Zurich:20251017T210000
DTSTAMP:20260421T113317
CREATED:20250214T160550Z
LAST-MODIFIED:20251009T165449Z
UID:1384-1760722200-1760734800@avantage-am-see.ch
SUMMARY:Znacht am Egelsee
DESCRIPTION:Zum Abschluss der Znacht am See feuern wir nochmals den Grill ein. Wir hoffen\, dass das Wetter mitmacht und nochmals draussen gegessen werden kann. Sonst lät ja die Stube im ersten Stock zum gemütlichen verweilen ein. \nMenu: Div. Würste und Grilkäse mit warmer Beilage. \nWir freuen uns auf euch\nDas AvantAge Kochteam
URL:https://avantage-am-see.ch/event/znacht-am-egelsee-9/
LOCATION:Werkhof Egelsee 1.Stock/Garage
CATEGORIES:Znacht
END:VEVENT
BEGIN:VEVENT
DTSTART;TZID=Europe/Zurich:20251013T170000
DTEND;TZID=Europe/Zurich:20251013T190000
DTSTAMP:20260421T113317
CREATED:20251009T170112Z
LAST-MODIFIED:20251009T170147Z
UID:1578-1760374800-1760382000@avantage-am-see.ch
SUMMARY:10. Stamm am Egelsee 2025
DESCRIPTION:Das Thema des Stamms ist Jakobsweg/ Fernwandern\nErfahrungen\, Erlebnisse\, Tipps.
URL:https://avantage-am-see.ch/event/10-stamm-am-egelsee/
LOCATION:Werkhof Egelsee 1. Stock
CATEGORIES:Avantage Stamm
END:VEVENT
BEGIN:VEVENT
DTSTART;TZID=Europe/Zurich:20250926T173000
DTEND;TZID=Europe/Zurich:20250926T210000
DTSTAMP:20260421T113317
CREATED:20250214T160453Z
LAST-MODIFIED:20250923T162219Z
UID:1382-1758907800-1758920400@avantage-am-see.ch
SUMMARY:Znacht am Egelsee
DESCRIPTION:Zue\n Essen gibt es Pasta mit verschiedenen Saucen( Fleisch und Vegi) Dazu Salat.\nAuch wenn die Wetterprognose schlecht ist würden wir uns freuen euch im 1.Stock zum Znacht zu begrüssen. Liebe Grüsse vom Kochteam.
URL:https://avantage-am-see.ch/event/znacht-am-egelsee-8/
LOCATION:Werkhof Egelsee 1.Stock/Garage
END:VEVENT
BEGIN:VEVENT
DTSTART;TZID=Europe/Zurich:20250908T170000
DTEND;TZID=Europe/Zurich:20250908T190000
DTSTAMP:20260421T113317
CREATED:20250822T141713Z
LAST-MODIFIED:20250822T141713Z
UID:1549-1757350800-1757358000@avantage-am-see.ch
SUMMARY:9. Stamm am Egelsee 8.9.2025
DESCRIPTION:Der Stamm findet wie üblich am 2. Montag im Monat statt.Im ersten Stock oder je nach Wetter draussen.\nAn diesem Stamm gibt es kein vorgegebenes Thema.
URL:https://avantage-am-see.ch/event/9-stamm-am-egelsee-8-9-2025/
LOCATION:Werkhof am Egelsee Draussen oder drinnen 1.Stock\, Muristr.21e\, Bern\, 3006
END:VEVENT
BEGIN:VEVENT
DTSTART;TZID=Europe/Zurich:20250829T173000
DTEND;TZID=Europe/Zurich:20250829T210000
DTSTAMP:20260421T113317
CREATED:20250218T100528Z
LAST-MODIFIED:20250819T170314Z
UID:1394-1756488600-1756501200@avantage-am-see.ch
SUMMARY:Znacht am Egelsee Paella
DESCRIPTION:Liebe Gourmets und Gourmantinnen\nAn diesem Freitag Abend gibt es das traditionelle Paellaessen. Der Anlass findet bei jedem Wetter statt. Innenplätze vorhanden.\nPaella in allen Varianten : Fleisch\, Fisch\, + Meeresfrüchte\, Vegetarisch. Dazu eine Gazpacho. Moderate Preise ab ca. 20.-\nEssensausgabe: 18.15 und 19.00.\nDas Team AvantAge freut sich auf euren Besuch.
URL:https://avantage-am-see.ch/event/znacht-am-egelsee-7/
LOCATION:Werkhof am Egelsee Draussen oder drinnen 1.Stock\, Muristr.21e\, Bern\, 3006
CATEGORIES:Znacht
END:VEVENT
BEGIN:VEVENT
DTSTART;TZID=Europe/Zurich:20250811T170000
DTEND;TZID=Europe/Zurich:20250811T190000
DTSTAMP:20260421T113317
CREATED:20250801T113226Z
LAST-MODIFIED:20250801T113226Z
UID:1498-1754931600-1754938800@avantage-am-see.ch
SUMMARY:8. Stamm am See 11.8.25
DESCRIPTION:Thema: chronischer Schmerz\nOlivier ( Hausarzt) und ich Beat ( Physiotherapeut) halten eine kurze Einführung.  Dann bleibt genügend Zeit für Fragen und Diskussion.  \nEs laden ein mit herzlichen Grüssen\nPriska\, Silvia\,  Hannes\,  Beat
URL:https://avantage-am-see.ch/event/8-stamm-am-see-11-8-25/
LOCATION:Werkhof Egelsee 1. Stock
CATEGORIES:Avantage Stamm
END:VEVENT
BEGIN:VEVENT
DTSTART;TZID=Europe/Zurich:20250725T173000
DTEND;TZID=Europe/Zurich:20250725T210000
DTSTAMP:20260421T113317
CREATED:20250214T160306Z
LAST-MODIFIED:20250723T165108Z
UID:1378-1753464600-1753477200@avantage-am-see.ch
SUMMARY:Znacht am Egelsee
DESCRIPTION:Liebe Freundinnen und Freunde des Egelsee\nDie Wetterprognosen sagen Regen voraus. Aber wir kochen trotzdem. Es gibt die Möglichkeitam “ Schermen“ zu Essen\nMenu: Gemüsepasta mit Grillwürsten oder Grillkäse\nWir freuen uns auf euch!!\nDas AvantAge Kochteam
URL:https://avantage-am-see.ch/event/znacht-am-egelsee-6/
LOCATION:Werkhof am Egelsee Draussen oder drinnen 1.Stock\, Muristr.21e\, Bern\, 3006
END:VEVENT
BEGIN:VEVENT
DTSTART;TZID=Europe/Zurich:20250719T203000
DTEND;TZID=Europe/Zurich:20250719T230000
DTSTAMP:20260421T113317
CREATED:20250630T144809Z
LAST-MODIFIED:20250630T164122Z
UID:1472-1752957000-1752966000@avantage-am-see.ch
SUMMARY:Public Viewing Frauen-EM
DESCRIPTION:4. Viertelfinal Frauen-EM\nEssen und Trinken durch Verein am See
URL:https://avantage-am-see.ch/event/public-viewing-2/
LOCATION:Werkhof Egelsee
CATEGORIES:Projekte
ORGANIZER;CN="Verein am See/ Beat Lauber":MAILTO:beat-lauber@bluewin.ch
END:VEVENT
BEGIN:VEVENT
DTSTART;TZID=Europe/Zurich:20250718T203000
DTEND;TZID=Europe/Zurich:20250718T230000
DTSTAMP:20260421T113317
CREATED:20250630T144500Z
LAST-MODIFIED:20250630T144500Z
UID:1470-1752870600-1752879600@avantage-am-see.ch
SUMMARY:Public Viewing Frauen-EM
DESCRIPTION:3. Viertelfinal Frauen-EM\nEssen und Trinken von Verein am See
URL:https://avantage-am-see.ch/event/public-viewing-frauen-em-2/
LOCATION:Werkhof Egelsee
CATEGORIES:Projekte
ORGANIZER;CN="Verein am See/ Beat Lauber":MAILTO:beat-lauber@bluewin.ch
END:VEVENT
BEGIN:VEVENT
DTSTART;TZID=Europe/Zurich:20250717T203000
DTEND;TZID=Europe/Zurich:20250717T230000
DTSTAMP:20260421T113317
CREATED:20250630T143200Z
LAST-MODIFIED:20250630T144044Z
UID:1462-1752784200-1752793200@avantage-am-see.ch
SUMMARY:Public viewing Frauen-EM
DESCRIPTION:Zweiter Viertelsfinal Frauen-EM\nGetränke und Essen vom Vereein am See
URL:https://avantage-am-see.ch/event/public-viewing-frauen-em/
LOCATION:Werkhof Egelsee
CATEGORIES:Projekte
END:VEVENT
BEGIN:VEVENT
DTSTART;TZID=Europe/Zurich:20250716T203000
DTEND;TZID=Europe/Zurich:20250716T230000
DTSTAMP:20260421T113317
CREATED:20250630T143925Z
LAST-MODIFIED:20250716T085121Z
UID:1467-1752697800-1752706800@avantage-am-see.ch
SUMMARY:Public Viewing
DESCRIPTION:1. Viertelfinal Frauen-EM\n   Essen und Trinken durch Verein am See und AvantAge.\nDas Spiel wird bei jedem Wetter übertragen. Man kann nach Innen gehen.
URL:https://avantage-am-see.ch/event/public-viewing/
LOCATION:Werkhof Egelsee
CATEGORIES:Projekte
ORGANIZER;CN="Verein am See/ Beat Lauber":MAILTO:beat-lauber@bluewin.ch
END:VEVENT
BEGIN:VEVENT
DTSTART;TZID=Europe/Zurich:20250714T170000
DTEND;TZID=Europe/Zurich:20250714T190000
DTSTAMP:20260421T113317
CREATED:20250709T065712Z
LAST-MODIFIED:20250709T065712Z
UID:1458-1752512400-1752519600@avantage-am-see.ch
SUMMARY:7. AvantAge Stamm am See 2025
DESCRIPTION:Liebe  \nWir haben das Thema „Mein Lieblingsbuch“ gewählt. Alle Teilnehmenden können/ dürfen/ sollten ihr Lieblingsbuch mitnehmen und wenn möglich kurz etwas darüber sagen. \nWir werden uns dann darüber unterhalten. \nWir freuen uns auf euch\nSilvia\, Priska\, Hannes
URL:https://avantage-am-see.ch/event/7-avantage-stamm-am-see-2025/
LOCATION:Werkhof Egelsee 1. Stock
CATEGORIES:Avantage Stamm
END:VEVENT
BEGIN:VEVENT
DTSTART;TZID=Europe/Zurich:20250620T173000
DTEND;TZID=Europe/Zurich:20250620T210000
DTSTAMP:20260421T113317
CREATED:20250214T160145Z
LAST-MODIFIED:20250218T100035Z
UID:1376-1750440600-1750453200@avantage-am-see.ch
SUMMARY:Znacht am Egelsee
DESCRIPTION:
URL:https://avantage-am-see.ch/event/znacht-am-egelsee-5/
LOCATION:Werkhof am Egelsee Draussen oder drinnen 1.Stock\, Muristr.21e\, Bern\, 3006
END:VEVENT
BEGIN:VEVENT
DTSTART;TZID=Europe/Zurich:20250616T170000
DTEND;TZID=Europe/Zurich:20250616T190000
DTSTAMP:20260421T113317
CREATED:20250529T123339Z
LAST-MODIFIED:20250529T123339Z
UID:1450-1750093200-1750100400@avantage-am-see.ch
SUMMARY:6. Stamm am See 2025
DESCRIPTION:Liebe Avantagistinnen und -isten\, \nAn diesem Stamm gibt es ausnahmsweise kein vorgegebenes Thema.\nEventuell wird Privates preisgeben um sich besser kennenzulernen\, ein aktuelles Thema aufgegriffen oder einfach ein bisschen gelafert. \nMit herzlichen Grüssen\nPriska\, Silvia\, Hannes und Beat
URL:https://avantage-am-see.ch/event/6-stamm-am-see-2025/
CATEGORIES:Avantage Stamm
END:VEVENT
BEGIN:VEVENT
DTSTART;TZID=Europe/Zurich:20250523T173000
DTEND;TZID=Europe/Zurich:20250523T210000
DTSTAMP:20260421T113317
CREATED:20250214T155355Z
LAST-MODIFIED:20250513T095057Z
UID:1368-1748021400-1748034000@avantage-am-see.ch
SUMMARY:Znacht am Egelsee
DESCRIPTION:Liebe Egelsee-FreundInnen\nZum Tag der Nachbarschaft wollen wir euch begrillen:\nEs gibt Würste\, Cervelat und Grillkäse dazu Beilagen dem Wetter angepasst.\nWir freuen uns auf euch!!\nDas AvantAge- Kochteam
URL:https://avantage-am-see.ch/event/znacht-am-see/
LOCATION:Werkhof am Egelsee Draussen oder drinnen 1.Stock\, Muristr.21e\, Bern\, 3006
END:VEVENT
BEGIN:VEVENT
DTSTART;TZID=Europe/Zurich:20250512T170000
DTEND;TZID=Europe/Zurich:20250512T190000
DTSTAMP:20260421T113317
CREATED:20250430T083745Z
LAST-MODIFIED:20250430T084550Z
UID:1440-1747069200-1747076400@avantage-am-see.ch
SUMMARY:5. Stamm am See 2025
DESCRIPTION:Thema vom 12.4. 17.00 bis 19.00 im Werkhof Egelsee 1. Stock.\nUmgang mit Medienkonsum \n –          Wie gehen wir in Zeiten von Social Media\, Streaming Diensten und permanenter Nachrichtenflut mit Medien um ? \n–          Welche Medien konsumieren wir ? \n–          Wie wirkt sich der Medienkonsum  auf unseren individuellen Lebensstil aus ? \n–          Was sind die Auswirkungen von Medien auf unsere mentale Gesundheit ? \nWir freuen uns auf die Auseinandersetzung mit diesen Fragen an unserem nächsten Stamm-Treffen \nam 12. Mai\, 17.00 bis 19.00 Uhr. \nMit herzlichem Gruss \nDas Stamm-Team \nPriska\, Silvia\, Hannes
URL:https://avantage-am-see.ch/event/4-stamm-am-see-2025/
LOCATION:Werkhof Egelsee 1. Stock
CATEGORIES:Avantage Stamm
END:VEVENT
BEGIN:VEVENT
DTSTART;TZID=Europe/Zurich:20250425T173000
DTEND;TZID=Europe/Zurich:20250425T210000
DTSTAMP:20260421T113317
CREATED:20250214T154819Z
LAST-MODIFIED:20250424T091730Z
UID:1362-1745602200-1745614800@avantage-am-see.ch
SUMMARY:Znacht am Egelsee
DESCRIPTION:Menü\nGrill: Bierbrauerwurst\, Kalbsbratwurst\, Merguez\, Cervelat\, Grillkäse plus diverse Salate und Brot\nKuchen
URL:https://avantage-am-see.ch/event/znacht-am-egelsee-3/
LOCATION:Werkhof am Egelsee Draussen oder drinnen 1.Stock\, Muristr.21e\, Bern\, 3006
ATTACH;FMTTYPE=application/pdf:https://avantage-am-see.ch/wp-content/uploads/2025/02/Egelsee-Programm-veranstaltungen-1.pdf
END:VEVENT
BEGIN:VEVENT
DTSTART;TZID=Europe/Zurich:20250414T170000
DTEND;TZID=Europe/Zurich:20250414T190000
DTSTAMP:20260421T113317
CREATED:20250322T151522Z
LAST-MODIFIED:20250322T151522Z
UID:1425-1744650000-1744657200@avantage-am-see.ch
SUMMARY:3. Stamm am Egelsee 2025
DESCRIPTION:Das Thema ist Demenz.\nTreffpunkt 17.00 Werkhof Egelsee 1.Stock
URL:https://avantage-am-see.ch/event/3-stamm-am-egelsee-2025/
LOCATION:Werkhof Egelsee 1. Stock
CATEGORIES:Avantage Stamm
END:VEVENT
BEGIN:VEVENT
DTSTART;TZID=Europe/Zurich:20250328T173000
DTEND;TZID=Europe/Zurich:20250328T210000
DTSTAMP:20260421T113317
CREATED:20250130T100424Z
LAST-MODIFIED:20250218T104514Z
UID:1277-1743183000-1743195600@avantage-am-see.ch
SUMMARY:Znacht am Egelsee
DESCRIPTION:Die Gruppe AvantAge am Egelsee kocht für AnwohnerInnen und FreundInnen des Egelsee. \nWir starten unsere Kochsaison Znacht am See am 28. März.  Wir möchten euch zum Frühlingsanfang eine feine Suppe mit Würstli oder Käse gratis offerieren. \nKommt doch vorbei!! \nDas Essen findet bei jedem Wetter statt drinnen oder draussen.
URL:https://avantage-am-see.ch/event/znacht-am-egelsee-2/
LOCATION:Werkhof am Egelsee Draussen oder drinnen 1.Stock\, Muristr.21e\, Bern\, 3006
CATEGORIES:Znacht
ATTACH;FMTTYPE=application/pdf:https://avantage-am-see.ch/wp-content/uploads/2025/01/Egelsee-Programm-veranstaltungen.pdf
END:VEVENT
BEGIN:VEVENT
DTSTART;TZID=Europe/Zurich:20250310T170000
DTEND;TZID=Europe/Zurich:20250310T170000
DTSTAMP:20260421T113317
CREATED:20250304T115112Z
LAST-MODIFIED:20250304T115112Z
UID:1417-1741626000-1741626000@avantage-am-see.ch
SUMMARY:3. Stamm 2025 mit Film Vin de Berne und Degustation
DESCRIPTION:An diesem Stamm können wir den Film Vin de Berne schauen und anschliessend den Wein aus dem Wyssloch degustieren.\nAnmeldung erforderlich\, es wird ein kleiner Unkostenbeitrag erhoben
URL:https://avantage-am-see.ch/event/3-stamm-2025-mit-film-vin-de-berne-und-degustation-2/
LOCATION:Werkhof Egelsee 1. Stock
END:VEVENT
BEGIN:VEVENT
DTSTART;TZID=Europe/Zurich:20250202T140000
DTEND;TZID=Europe/Zurich:20250202T170000
DTSTAMP:20260421T113317
CREATED:20241225T162510Z
LAST-MODIFIED:20250122T150051Z
UID:1091-1738504800-1738515600@avantage-am-see.ch
SUMMARY:Austellung Licht-Objekte und Plakate/ Finissage
DESCRIPTION:Wir laden herzlich ein euch die Ausstellung anzusehen!\n\n\n \n\n\n\nZum Start ins neue Jahr 2025 können die Arbeiten von Thomas Dumont und Mark Hohn in den Ausstellungsräumen des Verein am See betrachtet werden. \n\n\nThomas Dumont: pensionierter Physiotherapeut\, Jazzmusiker und Lampenkreierer. Seine Lampen wurden aus gebrauchten Materialien hergestellt. \n\nMark Hohn\, geboren 1982 in Bern\, ist seit 20 Jahren Grafiker EFZ und seit über zehn Jahren selbständig.\n2023 hat er fünf komplette «Display typeface»-Alphabete entwickelt und gezeichnet\, Schriftarten welche für die Verwendung von Titel\, Überschriften und nicht für längere Textpassagen gedacht sind. Die Schriften werden als grossformatige Plakat-Illustrationen ausgestellt.\n\nMit herzlichen Grüssen BeatAustellung
URL:https://avantage-am-see.ch/event/austellung-licht-objekte-und-plakate-finissage/
LOCATION:Werkhof Egelsee 1. Stock
CATEGORIES:Ausstellungen
ORGANIZER;CN="Verein am See/ Beat Lauber":MAILTO:beat-lauber@bluewin.ch
END:VEVENT
BEGIN:VEVENT
DTSTART;TZID=Europe/Zurich:20250201T140000
DTEND;TZID=Europe/Zurich:20250201T170000
DTSTAMP:20260421T113318
CREATED:20241225T162309Z
LAST-MODIFIED:20250122T144609Z
UID:1089-1738418400-1738429200@avantage-am-see.ch
SUMMARY:Ausstellung Licht-Objekte und Plakate
DESCRIPTION:Wir laden herzlich ein euch die Ausstellung anzusehen!\n\n\n \n\n\n\nZum Start ins neue Jahr 2025 können die Arbeiten von Thomas Dumont und Mark Hohn in den Ausstellungsräumen des Verein am See betrachtet werden. \n\n\nThomas Dumont: pensionierter Physiotherapeut\, Jazzmusiker und Lampenkreierer. Seine Lampen wurden aus gebrauchten Materialien hergestellt. \n\nMark Hohn\, geboren 1982 in Bern\, ist seit 20 Jahren Grafiker EFZ und seit über zehn Jahren selbständig.\n2023 hat er fünf komplette «Display typeface»-Alphabete entwickelt und gezeichnet\, Schriftarten welche für die Verwendung von Titel\, Überschriften und nicht für längere Textpassagen gedacht sind. Die Schriften werden als grossformatige Plakat-Illustrationen ausgestellt.\n\nMit herzlichen Grüssen BeatLicht
URL:https://avantage-am-see.ch/event/licht-objekte-und-plakate-2/
LOCATION:Werkhof Egelsee 1. Stock
CATEGORIES:Ausstellungen
ORGANIZER;CN="Verein am See/ Beat Lauber":MAILTO:beat-lauber@bluewin.ch
END:VEVENT
END:VCALENDAR