BEGIN:VCALENDAR
VERSION:2.0
PRODID:-//AvantAge am Egelsee - ECPv6.15.20//NONSGML v1.0//EN
CALSCALE:GREGORIAN
METHOD:PUBLISH
X-ORIGINAL-URL:https://avantage-am-see.ch
X-WR-CALDESC:Veranstaltungen für AvantAge am Egelsee
REFRESH-INTERVAL;VALUE=DURATION:PT1H
X-Robots-Tag:noindex
X-PUBLISHED-TTL:PT1H
BEGIN:VTIMEZONE
TZID:Europe/Berlin
BEGIN:DAYLIGHT
TZOFFSETFROM:+0100
TZOFFSETTO:+0200
TZNAME:CEST
DTSTART:20230326T010000
END:DAYLIGHT
BEGIN:STANDARD
TZOFFSETFROM:+0200
TZOFFSETTO:+0100
TZNAME:CET
DTSTART:20231029T010000
END:STANDARD
BEGIN:DAYLIGHT
TZOFFSETFROM:+0100
TZOFFSETTO:+0200
TZNAME:CEST
DTSTART:20240331T010000
END:DAYLIGHT
BEGIN:STANDARD
TZOFFSETFROM:+0200
TZOFFSETTO:+0100
TZNAME:CET
DTSTART:20241027T010000
END:STANDARD
BEGIN:DAYLIGHT
TZOFFSETFROM:+0100
TZOFFSETTO:+0200
TZNAME:CEST
DTSTART:20250330T010000
END:DAYLIGHT
BEGIN:STANDARD
TZOFFSETFROM:+0200
TZOFFSETTO:+0100
TZNAME:CET
DTSTART:20251026T010000
END:STANDARD
END:VTIMEZONE
BEGIN:VEVENT
DTSTART;TZID=Europe/Berlin:20240311T170000
DTEND;TZID=Europe/Berlin:20240311T190000
DTSTAMP:20260425T044729
CREATED:20240129T084140Z
LAST-MODIFIED:20240306T155527Z
UID:111-1710176400-1710183600@avantage-am-see.ch
SUMMARY:4. Stamm "Mobilität"
DESCRIPTION:Liebe Alle \n  \nWir laden Euch herzlich für das kommende AvantAge-Treffen ein. \n  \nWann:      Montag\, 12. Februar 2024 \nWo:          Vereinsraum am Egelsee \nZeit:         17.00 Uhr bis 19.00 Uhr \n        \n«Mensch sein heisst unterwegs sein» (Längle 2007) \n  \nWas bedeutet uns unsere eigene Mobilität?  \nWas ist\, wenn wir sie verlieren und oder wiedergewinnen? \nWas möchten oder machen wir konkret\, um sie zu bewahren? \n  \nGemeinsam in dieses Thema eintauchen\, Erfahrungen austauschen. Nicht mehr und nicht weniger! \nWir freuen uns auf Euer Kommen\, Mitsinnieren und Mitreden. \nMögliches Projekt : Tanzabende \nFreundliche Grüsse \nBeat Lauber \nEinladung _4.Stamm_Mobilität
URL:https://avantage-am-see.ch/event/kulinarik-gruppe-avantage-am-see/
LOCATION:Werkhof Egelsee Eventraum\, 1. Stock)\, Muristrasse 21e\, 3006 Bern\, Bern\, Schweiz
ORGANIZER;CN="Beat Lauber":MAILTO:beat-lauber@bluewin.ch
END:VEVENT
BEGIN:VEVENT
DTSTART;TZID=Europe/Berlin:20240311T170000
DTEND;TZID=Europe/Berlin:20240311T190000
DTSTAMP:20260425T044729
CREATED:20240129T090416Z
LAST-MODIFIED:20240228T191138Z
UID:124-1710176400-1710183600@avantage-am-see.ch
SUMMARY:5. Stamm "Thema Generationen"
DESCRIPTION:Liebe Alle \nWir laden Euch herzlich für das kommende AvantAge-Treffen ein. \n5. Stamm „Thema Generationen „  \nWann:               Montag\, 11. März 2024 ein.  \nWo:                            Vereinsraum am Egelsee \nZeit:                            17.00 bis 19.00 Uhr  \nDas Gespräch widmen wir einer Frage\, die uns alle – in unterschiedlicher Weise – ein Leben lang beschäftigt: \nWie erfahren wir das Zusammenleben zwischen den Generationen ?  \n– In der Familie \n– Im Berufsalltag \n– In der Gesellschaft \n  \nWelche Potentiale und welche Erwartungen hat unsere Generation ?  \nWir freuen uns auf eine anregende und lebhafte Diskussion.  \n  \nEinfach kommen\, keine An- oder Abmeldung nötig.  \nMit herzlichem Gruss  \nBrigitte Marthaler\, Hannes Heinimann und Beat Lauber
URL:https://avantage-am-see.ch/event/5-stamm-thema-maerz/
LOCATION:Werkhof Egelsee Eventraum\, 1. Stock)\, Muristrasse 21e\, 3006 Bern\, Bern\, Schweiz
ORGANIZER;CN="Beat Lauber":MAILTO:beat-lauber@bluewin.ch
END:VEVENT
END:VCALENDAR