BEGIN:VCALENDAR
VERSION:2.0
PRODID:-//AvantAge am Egelsee - ECPv6.15.20//NONSGML v1.0//EN
CALSCALE:GREGORIAN
METHOD:PUBLISH
X-WR-CALNAME:AvantAge am Egelsee
X-ORIGINAL-URL:https://avantage-am-see.ch
X-WR-CALDESC:Veranstaltungen für AvantAge am Egelsee
REFRESH-INTERVAL;VALUE=DURATION:PT1H
X-Robots-Tag:noindex
X-PUBLISHED-TTL:PT1H
BEGIN:VTIMEZONE
TZID:Europe/Berlin
BEGIN:DAYLIGHT
TZOFFSETFROM:+0100
TZOFFSETTO:+0200
TZNAME:CEST
DTSTART:20230326T010000
END:DAYLIGHT
BEGIN:STANDARD
TZOFFSETFROM:+0200
TZOFFSETTO:+0100
TZNAME:CET
DTSTART:20231029T010000
END:STANDARD
BEGIN:DAYLIGHT
TZOFFSETFROM:+0100
TZOFFSETTO:+0200
TZNAME:CEST
DTSTART:20240331T010000
END:DAYLIGHT
BEGIN:STANDARD
TZOFFSETFROM:+0200
TZOFFSETTO:+0100
TZNAME:CET
DTSTART:20241027T010000
END:STANDARD
BEGIN:DAYLIGHT
TZOFFSETFROM:+0100
TZOFFSETTO:+0200
TZNAME:CEST
DTSTART:20250330T010000
END:DAYLIGHT
BEGIN:STANDARD
TZOFFSETFROM:+0200
TZOFFSETTO:+0100
TZNAME:CET
DTSTART:20251026T010000
END:STANDARD
END:VTIMEZONE
BEGIN:VTIMEZONE
TZID:Europe/Zurich
BEGIN:DAYLIGHT
TZOFFSETFROM:+0100
TZOFFSETTO:+0200
TZNAME:CEST
DTSTART:20230326T010000
END:DAYLIGHT
BEGIN:STANDARD
TZOFFSETFROM:+0200
TZOFFSETTO:+0100
TZNAME:CET
DTSTART:20231029T010000
END:STANDARD
BEGIN:DAYLIGHT
TZOFFSETFROM:+0100
TZOFFSETTO:+0200
TZNAME:CEST
DTSTART:20240331T010000
END:DAYLIGHT
BEGIN:STANDARD
TZOFFSETFROM:+0200
TZOFFSETTO:+0100
TZNAME:CET
DTSTART:20241027T010000
END:STANDARD
BEGIN:DAYLIGHT
TZOFFSETFROM:+0100
TZOFFSETTO:+0200
TZNAME:CEST
DTSTART:20250330T010000
END:DAYLIGHT
BEGIN:STANDARD
TZOFFSETFROM:+0200
TZOFFSETTO:+0100
TZNAME:CET
DTSTART:20251026T010000
END:STANDARD
END:VTIMEZONE
BEGIN:VEVENT
DTSTART;TZID=Europe/Berlin:20240503T173000
DTEND;TZID=Europe/Berlin:20240503T230000
DTSTAMP:20260425T014945
CREATED:20240129T150342Z
LAST-MODIFIED:20240415T114550Z
UID:175-1714757400-1714777200@avantage-am-see.ch
SUMMARY:Sponsorenessen
DESCRIPTION:Der Verein am See lädt ein zum 3‑Gänger-Festessen\, Apéro ab 17.30 Uhr:\nDer Erlös des Sponsorenessens fliesst in die Renovation des Veranstaltungsraums. Diese erste Etappe ist für die Erneuerung der Beleuchtung\, Wandanstrich und Einrichtung gedacht. \nMenü: Maurice Rota\, Beat Lauber & AvantAge\nMaurice Rota\, Beat Lauber und das Projekt AvantAge am See verwöhnen die Gäste mit einem 3‑Gänger-Überraschungsmenü vom Feinsten. \n\n\nMusik: Matthias Kirchner\nDer Bieler Musiker Matthias Kirchner singt in seinem Projekt Fleisch und Blut lustige Lieder über das Leben im Allgemeinen und das Leben heute im Speziellen.
URL:https://avantage-am-see.ch/event/sponsorenessen/
LOCATION:Werkhof Egelsee Eventraum\, 1. Stock)\, Muristrasse 21e\, 3006 Bern\, Bern\, Schweiz
ORGANIZER;CN="Beat Lauber":MAILTO:beat-lauber@bluewin.ch
END:VEVENT
BEGIN:VEVENT
DTSTART;TZID=Europe/Berlin:20240513T170000
DTEND;TZID=Europe/Berlin:20240513T190000
DTSTAMP:20260425T014945
CREATED:20240129T090834Z
LAST-MODIFIED:20240506T073643Z
UID:128-1715619600-1715626800@avantage-am-see.ch
SUMMARY:7. Stamm "Thema Klimawandel
DESCRIPTION:Thema Klimawandel \nEinladung zum 7. Stamm AvantAge am Egelsee  \n\n  \nWann:              Montag\, 13. Mai 2024 \nWo:                            Vereinsraum am Egelsee \nZeit:                            17.00 Uhr bis 19.00 Uhr \n                \nWir möchten uns mit Euch bei unserem nächsten Treffen über das Thema Klimawandel austauschen. Es ist uns klar\, dass das aktuelle Thema komplex ist\, viele Emotionen damit verbunden sind. Gerade aus diesen Gründen erachten wir es als sinnvoll\, gemeinsam darüber zu sprechen.  \n  \nWie erleben\, erfahren wir folgende Fragestellungen bezüglich Klimawandel und Energiewende in unserem privaten Umfeld\, aus den Medien und was lösen diese in uns aus?  \n  \n Wie hat sich das Klima im Laufe meines Lebens verändert? \n Welche Auswirkungen des Klimawandels haben wir bereits erlebt oder beobachtet? \n Welchen Beitrag leisten wir schon zum Klimaschutz? \n Wie bewerten wir die Verantwortung und die Massnahmen von Gesellschaft und Politik zum Thema Klimawandel und Energiewende? \n  \n   \nWir freuen uns einmal mehr auf Euer Kommen\, Mitsinnieren und Mitreden.  \n  \nMit herzlichem Gruss \nHannes Heinimann\, Brigitte Marthaler und Beat Lauber \n  \nEinfach kommen\, keine An-oder Abmeldung nötig. \n  \n 
URL:https://avantage-am-see.ch/event/7-stamm-thema-mai/
LOCATION:Werkhof Egelsee Eventraum\, 1. Stock)\, Muristrasse 21e\, 3006 Bern\, Bern\, Schweiz
ORGANIZER;CN="Beat Lauber":MAILTO:beat-lauber@bluewin.ch
END:VEVENT
BEGIN:VEVENT
DTSTART;TZID=Europe/Zurich:20240531T173000
DTEND;TZID=Europe/Zurich:20240531T210000
DTSTAMP:20260425T014945
CREATED:20240229T103115Z
LAST-MODIFIED:20240530T072922Z
UID:534-1717176600-1717189200@avantage-am-see.ch
SUMMARY:Znacht am Egelsee/ findet bei jedem Wetter statt
DESCRIPTION:Die Gruppe Avantage am See kocht für AnwohnerInnen und FreundInnen des Egelsee. \nWir hoffen sie jeweils draussen bedienen zu können. \nGetränke können bei der Riva-Bar bezogen werden \nDer 31.Mai ist der Tag der Nachbarschaft. Motivieren sie ihre Nachbarn zu einem Treffen am See \nMenü: Grill mit Steak\, Würsten und Grillkäse dazu verschiedene Salate und Brot zu moderaten Preisen. \nSie können drinnen an der Wärme essen!!
URL:https://avantage-am-see.ch/event/znacht-am-egelsee/
END:VEVENT
END:VCALENDAR