BEGIN:VCALENDAR
VERSION:2.0
PRODID:-//AvantAge am Egelsee - ECPv6.15.20//NONSGML v1.0//EN
CALSCALE:GREGORIAN
METHOD:PUBLISH
X-WR-CALNAME:AvantAge am Egelsee
X-ORIGINAL-URL:https://avantage-am-see.ch
X-WR-CALDESC:Veranstaltungen für AvantAge am Egelsee
REFRESH-INTERVAL;VALUE=DURATION:PT1H
X-Robots-Tag:noindex
X-PUBLISHED-TTL:PT1H
BEGIN:VTIMEZONE
TZID:Europe/Zurich
BEGIN:DAYLIGHT
TZOFFSETFROM:+0100
TZOFFSETTO:+0200
TZNAME:CEST
DTSTART:20230326T010000
END:DAYLIGHT
BEGIN:STANDARD
TZOFFSETFROM:+0200
TZOFFSETTO:+0100
TZNAME:CET
DTSTART:20231029T010000
END:STANDARD
BEGIN:DAYLIGHT
TZOFFSETFROM:+0100
TZOFFSETTO:+0200
TZNAME:CEST
DTSTART:20240331T010000
END:DAYLIGHT
BEGIN:STANDARD
TZOFFSETFROM:+0200
TZOFFSETTO:+0100
TZNAME:CET
DTSTART:20241027T010000
END:STANDARD
BEGIN:DAYLIGHT
TZOFFSETFROM:+0100
TZOFFSETTO:+0200
TZNAME:CEST
DTSTART:20250330T010000
END:DAYLIGHT
BEGIN:STANDARD
TZOFFSETFROM:+0200
TZOFFSETTO:+0100
TZNAME:CET
DTSTART:20251026T010000
END:STANDARD
END:VTIMEZONE
BEGIN:VEVENT
DTSTART;TZID=Europe/Zurich:20240812T170000
DTEND;TZID=Europe/Zurich:20240812T190000
DTSTAMP:20260424T205543
CREATED:20240513T100804Z
LAST-MODIFIED:20240513T100804Z
UID:832-1723482000-1723489200@avantage-am-see.ch
SUMMARY:Plauder-Stamm
DESCRIPTION:An alle die an diesem Abend gerne zusammensitzen  und sich über Gott und die Welt unterhalten möchten.
URL:https://avantage-am-see.ch/event/plauder-stamm/
LOCATION:Werkhof am Egelsee Draussen oder drinnen 1.Stock\, Muristr.21e\, Bern\, 3006
ORGANIZER;CN="Beat Lauber":MAILTO:beat-lauber@bluewin.ch
END:VEVENT
BEGIN:VEVENT
DTSTART;TZID=Europe/Zurich:20240823T173000
DTEND;TZID=Europe/Zurich:20240823T210000
DTSTAMP:20260424T205543
CREATED:20240306T160747Z
LAST-MODIFIED:20240820T045642Z
UID:647-1724434200-1724446800@avantage-am-see.ch
SUMMARY:Znacht am Egelsee
DESCRIPTION:Die Gruppe AvantAge am See kocht für AnwohnerInnen und FreundInnen des Egelsee. \nDie Ferien nachklingen lassen draussen am Egelsee mit einem feinen Znacht. \nKommt doch vorbei. \nMENÜ\nFleischiges und vegetarisches vom Grill mit feinen Salaten
URL:https://avantage-am-see.ch/event/znacht-am-egelsee-4/
LOCATION:Werkhof am Egelsee Draussen oder drinnen 1.Stock\, Muristr.21e\, Bern\, 3006
CATEGORIES:Znacht
ORGANIZER;CN="Beat Lauber":MAILTO:beat-lauber@bluewin.ch
END:VEVENT
END:VCALENDAR