BEGIN:VCALENDAR
VERSION:2.0
PRODID:-//AvantAge am Egelsee - ECPv6.15.20//NONSGML v1.0//EN
CALSCALE:GREGORIAN
METHOD:PUBLISH
X-WR-CALNAME:AvantAge am Egelsee
X-ORIGINAL-URL:https://avantage-am-see.ch
X-WR-CALDESC:Veranstaltungen für AvantAge am Egelsee
REFRESH-INTERVAL;VALUE=DURATION:PT1H
X-Robots-Tag:noindex
X-PUBLISHED-TTL:PT1H
BEGIN:VTIMEZONE
TZID:Europe/Zurich
BEGIN:DAYLIGHT
TZOFFSETFROM:+0100
TZOFFSETTO:+0200
TZNAME:CEST
DTSTART:20230326T010000
END:DAYLIGHT
BEGIN:STANDARD
TZOFFSETFROM:+0200
TZOFFSETTO:+0100
TZNAME:CET
DTSTART:20231029T010000
END:STANDARD
BEGIN:DAYLIGHT
TZOFFSETFROM:+0100
TZOFFSETTO:+0200
TZNAME:CEST
DTSTART:20240331T010000
END:DAYLIGHT
BEGIN:STANDARD
TZOFFSETFROM:+0200
TZOFFSETTO:+0100
TZNAME:CET
DTSTART:20241027T010000
END:STANDARD
BEGIN:DAYLIGHT
TZOFFSETFROM:+0100
TZOFFSETTO:+0200
TZNAME:CEST
DTSTART:20250330T010000
END:DAYLIGHT
BEGIN:STANDARD
TZOFFSETFROM:+0200
TZOFFSETTO:+0100
TZNAME:CET
DTSTART:20251026T010000
END:STANDARD
END:VTIMEZONE
BEGIN:VEVENT
DTSTART;TZID=Europe/Zurich:20241014T170000
DTEND;TZID=Europe/Zurich:20241014T190000
DTSTAMP:20260424T180228
CREATED:20240709T094427Z
LAST-MODIFIED:20241001T111420Z
UID:915-1728925200-1728932400@avantage-am-see.ch
SUMMARY:10. Stamm am See. Thema Pensionierung
DESCRIPTION:Guten Tag \nZum 10. Mal treffen wir uns am Montag 14.10 um 17.00 bis 19.00 zum schon fast traditionellen Stamm mit sicherlich wieder angeregter Diskussion. \nWir tauschen aus zum Thema Pensionierung \nWie  habe ich mir die Pensionierung vorgestellt? \nWo stehe ich heute? \nWie waren die verschiedenen Phasen der nachberuflichen Zeit? \nfür Nichtpensionierte : was erwarte ich von der Pensionierung? \nBrigitte und Hannes freuen sich auf euer Erscheinen. \nMit herzlichen Grüssen Beat \n 
URL:https://avantage-am-see.ch/event/10-stamm-am-see-thema-offen/
LOCATION:Werkhof Egelsee Eventraum\, 1. Stock)\, Muristrasse 21e\, 3006 Bern\, Bern\, Schweiz
ORGANIZER;CN="Beat Lauber":MAILTO:beat-lauber@bluewin.ch
END:VEVENT
END:VCALENDAR