BEGIN:VCALENDAR
VERSION:2.0
PRODID:-//AvantAge am Egelsee - ECPv6.15.20//NONSGML v1.0//EN
CALSCALE:GREGORIAN
METHOD:PUBLISH
X-WR-CALNAME:AvantAge am Egelsee
X-ORIGINAL-URL:https://avantage-am-see.ch
X-WR-CALDESC:Veranstaltungen für AvantAge am Egelsee
REFRESH-INTERVAL;VALUE=DURATION:PT1H
X-Robots-Tag:noindex
X-PUBLISHED-TTL:PT1H
BEGIN:VTIMEZONE
TZID:Europe/Zurich
BEGIN:DAYLIGHT
TZOFFSETFROM:+0100
TZOFFSETTO:+0200
TZNAME:CEST
DTSTART:20240331T010000
END:DAYLIGHT
BEGIN:STANDARD
TZOFFSETFROM:+0200
TZOFFSETTO:+0100
TZNAME:CET
DTSTART:20241027T010000
END:STANDARD
BEGIN:DAYLIGHT
TZOFFSETFROM:+0100
TZOFFSETTO:+0200
TZNAME:CEST
DTSTART:20250330T010000
END:DAYLIGHT
BEGIN:STANDARD
TZOFFSETFROM:+0200
TZOFFSETTO:+0100
TZNAME:CET
DTSTART:20251026T010000
END:STANDARD
BEGIN:DAYLIGHT
TZOFFSETFROM:+0100
TZOFFSETTO:+0200
TZNAME:CEST
DTSTART:20260329T010000
END:DAYLIGHT
BEGIN:STANDARD
TZOFFSETFROM:+0200
TZOFFSETTO:+0100
TZNAME:CET
DTSTART:20261025T010000
END:STANDARD
END:VTIMEZONE
BEGIN:VEVENT
DTSTART;TZID=Europe/Zurich:20250414T170000
DTEND;TZID=Europe/Zurich:20250414T190000
DTSTAMP:20260420T094427
CREATED:20250322T151522Z
LAST-MODIFIED:20250322T151522Z
UID:1425-1744650000-1744657200@avantage-am-see.ch
SUMMARY:3. Stamm am Egelsee 2025
DESCRIPTION:Das Thema ist Demenz.\nTreffpunkt 17.00 Werkhof Egelsee 1.Stock
URL:https://avantage-am-see.ch/event/3-stamm-am-egelsee-2025/
LOCATION:Werkhof Egelsee 1. Stock
CATEGORIES:Avantage Stamm
END:VEVENT
BEGIN:VEVENT
DTSTART;TZID=Europe/Zurich:20250425T173000
DTEND;TZID=Europe/Zurich:20250425T210000
DTSTAMP:20260420T094427
CREATED:20250214T154819Z
LAST-MODIFIED:20250424T091730Z
UID:1362-1745602200-1745614800@avantage-am-see.ch
SUMMARY:Znacht am Egelsee
DESCRIPTION:Menü\nGrill: Bierbrauerwurst\, Kalbsbratwurst\, Merguez\, Cervelat\, Grillkäse plus diverse Salate und Brot\nKuchen
URL:https://avantage-am-see.ch/event/znacht-am-egelsee-3/
LOCATION:Werkhof am Egelsee Draussen oder drinnen 1.Stock\, Muristr.21e\, Bern\, 3006
ATTACH;FMTTYPE=application/pdf:https://avantage-am-see.ch/wp-content/uploads/2025/02/Egelsee-Programm-veranstaltungen-1.pdf
END:VEVENT
END:VCALENDAR