BEGIN:VCALENDAR
VERSION:2.0
PRODID:-//AvantAge am Egelsee - ECPv6.15.20//NONSGML v1.0//EN
CALSCALE:GREGORIAN
METHOD:PUBLISH
X-WR-CALNAME:AvantAge am Egelsee
X-ORIGINAL-URL:https://avantage-am-see.ch
X-WR-CALDESC:Veranstaltungen für AvantAge am Egelsee
REFRESH-INTERVAL;VALUE=DURATION:PT1H
X-Robots-Tag:noindex
X-PUBLISHED-TTL:PT1H
BEGIN:VTIMEZONE
TZID:Europe/Zurich
BEGIN:DAYLIGHT
TZOFFSETFROM:+0100
TZOFFSETTO:+0200
TZNAME:CEST
DTSTART:20250330T010000
END:DAYLIGHT
BEGIN:STANDARD
TZOFFSETFROM:+0200
TZOFFSETTO:+0100
TZNAME:CET
DTSTART:20251026T010000
END:STANDARD
BEGIN:DAYLIGHT
TZOFFSETFROM:+0100
TZOFFSETTO:+0200
TZNAME:CEST
DTSTART:20260329T010000
END:DAYLIGHT
BEGIN:STANDARD
TZOFFSETFROM:+0200
TZOFFSETTO:+0100
TZNAME:CET
DTSTART:20261025T010000
END:STANDARD
BEGIN:DAYLIGHT
TZOFFSETFROM:+0100
TZOFFSETTO:+0200
TZNAME:CEST
DTSTART:20270328T010000
END:DAYLIGHT
BEGIN:STANDARD
TZOFFSETFROM:+0200
TZOFFSETTO:+0100
TZNAME:CET
DTSTART:20271031T010000
END:STANDARD
END:VTIMEZONE
BEGIN:VEVENT
DTSTART;TZID=Europe/Zurich:20260511T170000
DTEND;TZID=Europe/Zurich:20260511T190000
DTSTAMP:20260419T145548
CREATED:20260126T172708Z
LAST-MODIFIED:20260126T172709Z
UID:1630-1778518800-1778526000@avantage-am-see.ch
SUMMARY:5. AvantAge Stamm am Egelsee
DESCRIPTION:Thema dieses Stammes \nBücherrunde\, Büchertipps \nDieser Stamm wird von Priska und Cornelia moderiert. \nHerzlich Willkommen !!
URL:https://avantage-am-see.ch/event/5-avantage-stamm-am-egelsee/
LOCATION:Werkhof Egelsee 1. Stock
CATEGORIES:Avantage Stamm
END:VEVENT
BEGIN:VEVENT
DTSTART;TZID=Europe/Zurich:20260529T173000
DTEND;TZID=Europe/Zurich:20260529T210000
DTSTAMP:20260419T145548
CREATED:20260307T111713Z
LAST-MODIFIED:20260307T123916Z
UID:1668-1780075800-1780088400@avantage-am-see.ch
SUMMARY:Znacht am Egelsee/ Tag der Nachbarschaft
DESCRIPTION:Liebe Freundinnen und Freunde des Egelsee \nNützt doch die Gelegenheit mit euren Nachbarinnen und Nachbarn zusammen bei uns günstig und und unkompliziert Znacht zu essen . \nTermin reservieren. Näheres folgt.
URL:https://avantage-am-see.ch/event/znacht-am-egelsee-tag-der-nachbarschaft/
LOCATION:Werkhof am Egelsee Draussen oder drinnen 1.Stock\, Muristr.21e\, Bern\, 3006
CATEGORIES:Znacht
END:VEVENT
END:VCALENDAR